BEGIN:VCALENDAR
VERSION:2.0
PRODID:-//5.44.111.181//NONSGML kigkonsult.se iCalcreator 2.20//
CALSCALE:GREGORIAN
METHOD:PUBLISH
X-WR-TIMEZONE:UTC
BEGIN:VEVENT
UID:event644@Ronsdorfer SG 1885
DTSTAMP:20260424T122203Z
CATEGORIES:sonstige Wettkämpfe
DESCRIPTION:Ronsdorfer Schwimm-Olymp 2026 (Sponsorenschwimmen\, Abzeichen\,
  Team  Challenges\, freies Schwimmen)\nKategorie: sonstige Wettkämpfe\nICS
 -Link: https://www.rsg1885.de/index.php?option=com_jem&view=event&id=644:r
 onsdorfer-schwimm-olymp-2026-special-events\n
DTSTART:20260425T130000Z
DTEND:20260425T190000Z
LOCATION:Bandwirker Bad\,Am Stadtbahnhof 30\,42369 Wuppertal
SUMMARY:Ronsdorfer Schwimm-Olymp 2026 (Sponsorenschwimmen\, Abzeichen\, Tea
 m  Challenges\, freies Schwimmen)
URL:https://www.rsg1885.de/index.php?option=com_jem&view=event&id=644:ronsd
 orfer-schwimm-olymp-2026-special-events
END:VEVENT
END:VCALENDAR