BEGIN:VCALENDAR
VERSION:2.0
PRODID:-//5.44.111.181//NONSGML kigkonsult.se iCalcreator 2.20//
CALSCALE:GREGORIAN
METHOD:PUBLISH
X-WR-TIMEZONE:UTC
BEGIN:VEVENT
UID:event643@Ronsdorfer SG 1885
DTSTAMP:20260419T174138Z
CATEGORIES:sonstige Wettkämpfe
DESCRIPTION:31. Stadtwerke Haan Cup\nKategorie: sonstige Wettkämpfe\nICS-Li
 nk: https://www.rsg1885.de/index.php?option=com_jem&view=event&id=643:31-s
 tadtwerke-haan-cup\n
DTSTART:20260711T080000Z
DTEND:20260712T170000Z
LOCATION:Schwimm- und Sportbad Haan\,Alter Kirchplatz 12\,42781 Haan
SUMMARY:31. Stadtwerke Haan Cup
URL:https://www.rsg1885.de/index.php?option=com_jem&view=event&id=643:31-st
 adtwerke-haan-cup
END:VEVENT
END:VCALENDAR