BEGIN:VCALENDAR
VERSION:2.0
PRODID:-//5.44.111.181//NONSGML kigkonsult.se iCalcreator 2.20//
CALSCALE:GREGORIAN
METHOD:PUBLISH
X-WR-TIMEZONE:UTC
BEGIN:VEVENT
UID:event642@Ronsdorfer SG 1885
DTSTAMP:20260419T173007Z
CATEGORIES:sonstige Wettkämpfe
DESCRIPTION:42. Outdoor Swim Cup\nKategorie: sonstige Wettkämpfe\nICS-Link:
  https://www.rsg1885.de/index.php?option=com_jem&view=event&id=642:42-outd
 oor-swim-cup\n
DTSTART:20260627T083000Z
DTEND:20260627T170000Z
LOCATION:Panoramabad (Freibad)\,Wiesenweg 60\,42553 Velbert
SUMMARY:42. Outdoor Swim Cup
URL:https://www.rsg1885.de/index.php?option=com_jem&view=event&id=642:42-ou
 tdoor-swim-cup
END:VEVENT
END:VCALENDAR