BEGIN:VCALENDAR
VERSION:2.0
PRODID:-//5.44.111.181//NONSGML kigkonsult.se iCalcreator 2.20//
CALSCALE:GREGORIAN
METHOD:PUBLISH
X-WR-TIMEZONE:UTC
BEGIN:VEVENT
UID:event641@Ronsdorfer SG 1885
DTSTAMP:20260419T172400Z
CATEGORIES:Verbandsmeisterschaften
DESCRIPTION:Bezirksmeisterschaften 50m Bahn\nKategorie: Verbandsmeisterscha
 ften\nICS-Link: https://www.rsg1885.de/index.php?option=com_jem&view=event
 &id=641:bezirksmeisterschaften-50m-bahn\n
DTSTART:20260418T080000Z
DTEND:20260419T170000Z
LOCATION:Düsseldorf - Rheinbad Hallenbad\,Europaplatz 1\,40474 Düsseldorf
SUMMARY:Bezirksmeisterschaften 50m Bahn
URL:https://www.rsg1885.de/index.php?option=com_jem&view=event&id=641:bezir
 ksmeisterschaften-50m-bahn
END:VEVENT
END:VCALENDAR