BEGIN:VCALENDAR
VERSION:2.0
PRODID:-//5.44.111.181//NONSGML kigkonsult.se iCalcreator 2.20//
CALSCALE:GREGORIAN
METHOD:PUBLISH
X-WR-TIMEZONE:UTC
BEGIN:VEVENT
UID:event577@Ronsdorfer SG 1885
DTSTAMP:20260419T172526Z
CATEGORIES:Athletiktraining
DESCRIPTION:Athletiktraining\nKategorie: Athletiktraining\nICS-Link: https:
 //www.rsg1885.de/index.php?option=com_jem&view=event&id=577:athletiktraini
 ng-2025\n
DTSTART:20260420T190000Z
DTEND:20260420T203000Z
LOCATION:Turnhalle Echoer Straße\,Am Stall 28\,42369 Wuppertal
SUMMARY:Athletiktraining
URL:https://www.rsg1885.de/index.php?option=com_jem&view=event&id=577:athle
 tiktraining-2025
END:VEVENT
END:VCALENDAR