BEGIN:VCALENDAR
VERSION:2.0
PRODID:-//5.44.111.181//NONSGML kigkonsult.se iCalcreator 2.20//
CALSCALE:GREGORIAN
METHOD:PUBLISH
X-WR-TIMEZONE:UTC
BEGIN:VEVENT
UID:event553@Ronsdorfer SG 1885
DTSTAMP:20260419T195953Z
CATEGORIES:Schwimmlernkurs
DESCRIPTION:Schwimmlernkurs\nKategorie: Schwimmlernkurs\nICS-Link: https://
 www.rsg1885.de/index.php?option=com_jem&view=event&id=553:schwimmlernkurs-
 2025\n
DTSTART:20261027T174500Z
DTEND:20261027T181500Z
LOCATION:Bandwirker Bad\,Am Stadtbahnhof 30\,42369 Wuppertal
SUMMARY:Schwimmlernkurs
URL:https://www.rsg1885.de/index.php?option=com_jem&view=event&id=553:schwi
 mmlernkurs-2025
END:VEVENT
END:VCALENDAR