BEGIN:VCALENDAR
VERSION:2.0
PRODID:-//5.44.111.181//NONSGML kigkonsult.se iCalcreator 2.20//
CALSCALE:GREGORIAN
METHOD:PUBLISH
X-WR-TIMEZONE:UTC
BEGIN:VEVENT
UID:event217@Ronsdorfer SG 1885
DTSTAMP:20260419T172616Z
CATEGORIES:Training TG1\, Training TG2\, Training Masters/Wettkampfmannscha
 ft
DESCRIPTION:Training TG1 + TG2 + Masters / Wettkampfmannschaft\nKategorie: 
 Training TG1\, Training TG2\, Training Masters/Wettkampfmannschaft\nICS-Li
 nk: https://www.rsg1885.de/index.php?option=com_jem&view=event&id=217:trai
 ning-tg1-tg2-masters-wettkampfmannschaft-samstag\n
DTSTART:20260418T173000Z
DTEND:20260418T193000Z
LOCATION:Bandwirker Bad\,Am Stadtbahnhof 30\,42369 Wuppertal\,Germany
SUMMARY:Training TG1 + TG2 + Masters / Wettkampfmannschaft
URL:https://www.rsg1885.de/index.php?option=com_jem&view=event&id=217:train
 ing-tg1-tg2-masters-wettkampfmannschaft-samstag
END:VEVENT
BEGIN:VEVENT
UID:event218@Ronsdorfer SG 1885
DTSTAMP:20260419T172616Z
CATEGORIES:Training TG1\, Training TG2\, Training Masters/Wettkampfmannscha
 ft
DESCRIPTION:Training TG1 + TG2 + Masters / Wettkampfmannschaft\nKategorie: 
 Training TG1\, Training TG2\, Training Masters/Wettkampfmannschaft\nICS-Li
 nk: https://www.rsg1885.de/index.php?option=com_jem&view=event&id=218:trai
 ning-tg1-tg2-masters-wettkampfmannschaft-samstag\n
DTSTART:20260425T173000Z
DTEND:20260425T193000Z
LOCATION:Bandwirker Bad\,Am Stadtbahnhof 30\,42369 Wuppertal\,Germany
SUMMARY:Training TG1 + TG2 + Masters / Wettkampfmannschaft
URL:https://www.rsg1885.de/index.php?option=com_jem&view=event&id=218:train
 ing-tg1-tg2-masters-wettkampfmannschaft-samstag
END:VEVENT
BEGIN:VEVENT
UID:event475@Ronsdorfer SG 1885
DTSTAMP:20260419T172616Z
CATEGORIES:Training Masters/Wettkampfmannschaft
DESCRIPTION:Training Masters / Wettkampfmannschaft\nKategorie: Training Mas
 ters/Wettkampfmannschaft\nICS-Link: https://www.rsg1885.de/index.php?optio
 n=com_jem&view=event&id=475:training-masters-wettkampfmannschaft-dienstag
 \n
DTSTART:20260421T200000Z
DTEND:20260421T210000Z
LOCATION:Bandwirker Bad\,Am Stadtbahnhof 30\,42369 Wuppertal\,Germany
SUMMARY:Training Masters / Wettkampfmannschaft
URL:https://www.rsg1885.de/index.php?option=com_jem&view=event&id=475:train
 ing-masters-wettkampfmannschaft-dienstag
END:VEVENT
BEGIN:VEVENT
UID:event476@Ronsdorfer SG 1885
DTSTAMP:20260419T172616Z
CATEGORIES:Training Masters/Wettkampfmannschaft
DESCRIPTION:Training Masters / Wettkampfmannschaft\nKategorie: Training Mas
 ters/Wettkampfmannschaft\nICS-Link: https://www.rsg1885.de/index.php?optio
 n=com_jem&view=event&id=476:training-masters-wettkampfmannschaft-dienstag
 \n
DTSTART:20260428T200000Z
DTEND:20260428T210000Z
LOCATION:Bandwirker Bad\,Am Stadtbahnhof 30\,42369 Wuppertal\,Germany
SUMMARY:Training Masters / Wettkampfmannschaft
URL:https://www.rsg1885.de/index.php?option=com_jem&view=event&id=476:train
 ing-masters-wettkampfmannschaft-dienstag
END:VEVENT
BEGIN:VEVENT
UID:event425@Ronsdorfer SG 1885
DTSTAMP:20260419T172616Z
CATEGORIES:Training Masters/Wettkampfmannschaft
DESCRIPTION:Training Masters / Wettkampfmannschaft\nKategorie: Training Mas
 ters/Wettkampfmannschaft\nICS-Link: https://www.rsg1885.de/index.php?optio
 n=com_jem&view=event&id=425:training-masters-wettkampfmannschaft-freitag\n
DTSTART:20260424T200000Z
DTEND:20260424T210000Z
LOCATION:Bandwirker Bad\,Am Stadtbahnhof 30\,42369 Wuppertal\,Germany
SUMMARY:Training Masters / Wettkampfmannschaft
URL:https://www.rsg1885.de/index.php?option=com_jem&view=event&id=425:train
 ing-masters-wettkampfmannschaft-freitag
END:VEVENT
END:VCALENDAR